BEGIN:VCALENDAR
VERSION:2.0
PRODID:-//Talks.cam//talks.cam.ac.uk//
X-WR-CALNAME:Talks.cam
BEGIN:VEVENT
SUMMARY:Machines Learning Human Minds - Michal Kosinski\, Cambridge Univer
 sity
DTSTART:20120320T093000Z
DTEND:20120320T103000Z
UID:TALK37071@talks.cam.ac.uk
CONTACT:Microsoft Research Cambridge Talks Admins
DESCRIPTION:People evolved to excel at quick and reliable predictions of o
 thers’ emotions and motivations – skills crucial for personal success 
 and safety in the social environment. Machines\, however\, while serving a
 n increasingly important role in human lives\, are virtually deprived of t
 he ability to read human minds\, which greatly reduces their success while
  advising\, selling to\, or otherwise interacting with humans. This presen
 tation presents an attempt to enhancing machines’ ability of reading hum
 an minds and its utility in predicting people’s behaviour and preference
 s.
LOCATION:Small lecture theatre\, Microsoft Research Ltd\, 7 J J Thomson Av
 enue (Off Madingley Road)\, Cambridge
END:VEVENT
END:VCALENDAR
