BEGIN:VCALENDAR
VERSION:2.0
PRODID:-//Talks.cam//talks.cam.ac.uk//
X-WR-CALNAME:Talks.cam
BEGIN:VEVENT
SUMMARY:Disjoint NP-pairs\, automatizability and games - Pudlak\, P (Acade
 my of Sciences of the Czech Republic)
DTSTART:20120405T150000Z
DTEND:20120405T153000Z
UID:TALK37292@talks.cam.ac.uk
CONTACT:Mustapha Amrani
DESCRIPTION:2012/04/05
LOCATION:Seminar Room 2\, Newton Institute
END:VEVENT
END:VCALENDAR
