BEGIN:VCALENDAR
VERSION:2.0
PRODID:-//Talks.cam//talks.cam.ac.uk//
X-WR-CALNAME:Talks.cam
BEGIN:VEVENT
SUMMARY:The existence of species rests on a metastable equilibrium between
  inbreeding and outbreeding.  Trying to explain why Darwin could not solve
  the mystery of mysteries. - Dr Etienne Joly\, University of Toulouse
DTSTART:20120618T113000Z
DTEND:20120618T123000Z
UID:TALK37363@talks.cam.ac.uk
CONTACT:Sue Griffin
DESCRIPTION:Abstract not available
LOCATION:Seminar Room\, Department of Pathology\, Tennis Court Road
END:VEVENT
END:VCALENDAR
