BEGIN:VCALENDAR
VERSION:2.0
PRODID:-//Talks.cam//talks.cam.ac.uk//
X-WR-CALNAME:Talks.cam
BEGIN:VEVENT
SUMMARY:Cambridge Language Sciences launch event - Speaker to be confirmed
DTSTART:20120512T090000Z
DTEND:20120512T160000Z
UID:TALK37836@talks.cam.ac.uk
CONTACT:26863
DESCRIPTION:This one-day Cambridge-internal event is an opportunity to com
 e and meet colleagues working in language research across the University a
 nd aims to open up discussion and promote links between researchers in dif
 ferent disciplines.\nFor details of the programme\, and for registration\,
  visit the language sciences website at http://www.languagesciences.cam.ac
 .uk/.\n\n
LOCATION:Lucia Windsor Room\, Newnham College
END:VEVENT
END:VCALENDAR
