BEGIN:VCALENDAR
VERSION:2.0
PRODID:-//Talks.cam//talks.cam.ac.uk//
X-WR-CALNAME:Talks.cam
BEGIN:VEVENT
SUMMARY:Energy Efficient Lighting - Winton Community
DTSTART:20120430T150000Z
DTEND:20120430T160000Z
UID:TALK37898@talks.cam.ac.uk
CONTACT:Nalin Patel
DESCRIPTION:A friendly discussion about energy efficient lighting hosted b
 y Prof David MacKay  – all Winton fellows and scholars are invited. Othe
 rs are welcome too. Contact Nalin Patel [nlp28@cam.ac.uk] if you would lik
 e to come.  Dr Rachel Oliver will attend to give her insight on GaN LEDs.
LOCATION:TCM Seminar room\, 530 Mott
END:VEVENT
END:VCALENDAR
