BEGIN:VCALENDAR
VERSION:2.0
PRODID:-//Talks.cam//talks.cam.ac.uk//
X-WR-CALNAME:Talks.cam
BEGIN:VEVENT
SUMMARY:Cambridge Public Policy Lecture: Baroness Neuberger - Baroness Neu
 berger DBE\, Senior Rabbi\, West London Synagogue
DTSTART:20130130T180000Z
DTEND:20130130T193000Z
UID:TALK37939@talks.cam.ac.uk
CONTACT:24689
DESCRIPTION:Please note that this lecture has been rearranged from 15 Nove
 mber 2012. \n\n*To register for this event please follow the link "here.":
 http://www.csap.cam.ac.uk/events/cambridge-public-policy-lecture-baroness-
 neuberger/signup/*
LOCATION:TBC
END:VEVENT
END:VCALENDAR
