BEGIN:VCALENDAR
VERSION:2.0
PRODID:-//Talks.cam//talks.cam.ac.uk//
X-WR-CALNAME:Talks.cam
BEGIN:VEVENT
SUMMARY:'Novel interactions between two similar chromatin remodelers contr
 ibute to a phenotypical switch in the mouse salivary gland' - Professor Ph
 ilippe Georgel (Department of Biological Sciences\, Marshall University
DTSTART:20120615T120000Z
DTEND:20120615T130000Z
UID:TALK38052@talks.cam.ac.uk
CONTACT:Carol West
DESCRIPTION:Abstract not available
LOCATION:Sir Brian Heap Room\,  Riverside Meeting Rooms\, The Babraham Ins
 titute
END:VEVENT
END:VCALENDAR
