BEGIN:VCALENDAR
VERSION:2.0
PRODID:-//Talks.cam//talks.cam.ac.uk//
X-WR-CALNAME:Talks.cam
BEGIN:VEVENT
SUMMARY:CNN seminar - April - Speaker to be confirmed
DTSTART:20120424T130000Z
DTEND:20120424T140000Z
UID:TALK38099@talks.cam.ac.uk
CONTACT:Petra Vertes
DESCRIPTION:*Ben Luisi (Department of Biochemistry\, University of Cambrid
 ge)*\n\n"Bacterial non-coding RNA and regulatory networks of gene expressi
 on"\n\nand\n\n*Shamith Samarajiwa (Computational Biology Group\, Departmen
 t of Oncology\, Cambridge University and Cancer Research UK Cambridge Rese
 arch Institute)*\n\n"Exploring human anti-proliferative and cell survival 
 responses using pathways\, networks and integrative genomic approaches."\n
 \nFor abstracts see: https://www.cnn.group.cam.ac.uk/events\n
LOCATION:Keynes Hall in Kings College
END:VEVENT
END:VCALENDAR
