BEGIN:VCALENDAR
VERSION:2.0
PRODID:-//Talks.cam//talks.cam.ac.uk//
X-WR-CALNAME:Talks.cam
BEGIN:VEVENT
SUMMARY:CD45 and TIM-1: unique targets for induction of regulatory T and B
  cells in transplant tolerance&quot\; - Professor David Rothstein\, Univer
 sity of Pittsburgh. Hosted by Chris Rudd
DTSTART:20120713T120000Z
DTEND:20120713T130000Z
UID:TALK38178@talks.cam.ac.uk
CONTACT:Catie Heathfield
DESCRIPTION:Abstract not available
LOCATION:Sackler Lecture Theatre (Level 7)\, Cambridge Institute for Medic
 al Research
END:VEVENT
END:VCALENDAR
