BEGIN:VCALENDAR
VERSION:2.0
PRODID:-//Talks.cam//talks.cam.ac.uk//
X-WR-CALNAME:Talks.cam
BEGIN:VEVENT
SUMMARY:CMS electricity usage: 8632.0 kWh on 06/06/12 - Previous day: 8249
 .0 kWh
DTSTART:20120608T000000Z
DTEND:20120608T010000Z
UID:TALK38506@talks.cam.ac.uk
CONTACT:Dankrad Feist
DESCRIPTION:
LOCATION:Average on weekdays: 8921.20319149 kWh
END:VEVENT
END:VCALENDAR
