BEGIN:VCALENDAR
VERSION:2.0
PRODID:-//Talks.cam//talks.cam.ac.uk//
X-WR-CALNAME:Talks.cam
BEGIN:VEVENT
SUMMARY:Stem Cells: Working Towards Clinical Application - Dr Glyn Stacey\
 , UK Stem Cell Bank\, Division of Cell Biology and Imaging
DTSTART:20121003T080000Z
DTEND:20121003T160000Z
UID:TALK38532@talks.cam.ac.uk
CONTACT:Dr Shara Cohen
DESCRIPTION:This event is discussion forum\, focused on clinical applicati
 ons of stem cell therapy. The aim is to offer participants a chance to exp
 lore aspects with the experts during round table and one-to one discussion
 s.\n\n \nMeeting Chair: Dr Glyn Stacey\, UK Stem Cell Bank\, Division of C
 ell Biology and Imaging.\n\nhttp://www.regonline.co.uk/discussionstem2012
LOCATION:The Penridge Suite\,470 Bowes Road\,London
END:VEVENT
END:VCALENDAR
