BEGIN:VCALENDAR
VERSION:2.0
PRODID:-//Talks.cam//talks.cam.ac.uk//
X-WR-CALNAME:Talks.cam
BEGIN:VEVENT
SUMMARY:Noise and signal integration in cell cycle control - Dr Stefano Di
  Talia\, Princeton University
DTSTART:20120613T160000Z
DTEND:20120613T170000Z
UID:TALK38566@talks.cam.ac.uk
CONTACT:Leona Hope-Coles
DESCRIPTION:Abstract not available
LOCATION:Small Lecture Theatre\, Cavendish Laboratory\, Department of Phys
 ics
END:VEVENT
END:VCALENDAR
