BEGIN:VCALENDAR
VERSION:2.0
PRODID:-//Talks.cam//talks.cam.ac.uk//
X-WR-CALNAME:Talks.cam
BEGIN:VEVENT
SUMMARY:The World's First Computer: Decoding the Antikythera Mechanism - S
 peaker to be confirmed
DTSTART:20120621T130000Z
DTEND:20120621T143000Z
UID:TALK38587@talks.cam.ac.uk
CONTACT:Caroline Stewart
DESCRIPTION:Showing of a documentary originally aired on BBC 4\, May 2012\
 , followed by a Q & A with the programme-makers\, Tony Freeth\, Mike Beckh
 am\, and Mike Edmunds. Chaired by Paul Cartledge (AG Leventis Professor of
  Greek Culture\, Faculty of Classics).
LOCATION:LT1\, Computer Laboratory\, William Gates Builiding
END:VEVENT
END:VCALENDAR
