BEGIN:VCALENDAR
VERSION:2.0
PRODID:-//Talks.cam//talks.cam.ac.uk//
X-WR-CALNAME:Talks.cam
BEGIN:VEVENT
SUMMARY:Reflections on F-theory Phenomenology - Vafa\, C (Harvard Universi
 ty)
DTSTART:20120627T141000Z
DTEND:20120627T144500Z
UID:TALK38693@talks.cam.ac.uk
CONTACT:Mustapha Amrani
DESCRIPTION:2012/06/27
LOCATION:Seminar Room 1\, Newton Institute
END:VEVENT
END:VCALENDAR
