BEGIN:VCALENDAR
VERSION:2.0
PRODID:-//Talks.cam//talks.cam.ac.uk//
X-WR-CALNAME:Talks.cam
BEGIN:VEVENT
SUMMARY:The Conifold's Competing Condensates - Roest\, D (Rijksuniversitei
 t Groningen)
DTSTART:20120627T151500Z
DTEND:20120627T153000Z
UID:TALK38705@talks.cam.ac.uk
CONTACT:Mustapha Amrani
DESCRIPTION:We discuss holographic superconductivity in the context of IIB
  on AdS_5 x T^{1\,1}. In the spectrum on the gravity side\, there are seve
 ral modes with potential instabilities. In addition to the one identifed b
 y Gubser et al\, we point out that there is another\, potentially more uns
 table mode. Moreover\, we propose a concrete model for the dynamics of thi
 s mode. With this proposal at hand\, we show that it indeed dominates the 
 thermodynamics at low temperatures.\n\n
LOCATION:Seminar Room 2\, Newton Institute Gatehouse
END:VEVENT
END:VCALENDAR
