BEGIN:VCALENDAR
VERSION:2.0
PRODID:-//Talks.cam//talks.cam.ac.uk//
X-WR-CALNAME:Talks.cam
BEGIN:VEVENT
SUMMARY:Heterotic Line Bundle Models in Four Dimensions - Lukas\, A (Unive
 rsity of Oxford)
DTSTART:20120629T105500Z
DTEND:20120629T113000Z
UID:TALK38782@talks.cam.ac.uk
CONTACT:Mustapha Amrani
DESCRIPTION:We introduce heterotic line bundle standard models and\, more 
 generally\, heterotic split models focusing on their four-dimensional effe
 ctive supergravity theories. The general structure of these theories and a
  number of phenomenological issues\, including fermion masses\, proton dec
 ay and moduli stabilization will be discussed.\n
LOCATION:Seminar Room 1\, Newton Institute
END:VEVENT
END:VCALENDAR
