BEGIN:VCALENDAR
VERSION:2.0
PRODID:-//Talks.cam//talks.cam.ac.uk//
X-WR-CALNAME:Talks.cam
BEGIN:VEVENT
SUMMARY:Aggressive breast tumors show altered lipid metabolism - Dr Mika H
 ilvo\, VTT Technical Research Centre of Finland
DTSTART:20120718T110000Z
DTEND:20120718T120000Z
UID:TALK38830@talks.cam.ac.uk
CONTACT:Dr Ireena Dutta
DESCRIPTION:Abstract not available
LOCATION:Sackler Lecture Theatre\, CIMR\,  Level 7
END:VEVENT
END:VCALENDAR
