BEGIN:VCALENDAR
VERSION:2.0
PRODID:-//Talks.cam//talks.cam.ac.uk//
X-WR-CALNAME:Talks.cam
BEGIN:VEVENT
SUMMARY:A general talk on the history of the Institute - Goddard\, P
DTSTART:20120711T143000Z
DTEND:20120711T153000Z
UID:TALK38918@talks.cam.ac.uk
CONTACT:Mustapha Amrani
DESCRIPTION:2012/07/11
LOCATION:Seminar Room 1\, Newton Institute
END:VEVENT
END:VCALENDAR
