BEGIN:VCALENDAR
VERSION:2.0
PRODID:-//Talks.cam//talks.cam.ac.uk//
X-WR-CALNAME:Talks.cam
BEGIN:VEVENT
SUMMARY:The metabolism of hereditary renal cancer - Dr Patrick Pollard\, U
 niversity of Oxford
DTSTART:20120801T110000Z
DTEND:20120801T120000Z
UID:TALK39076@talks.cam.ac.uk
CONTACT:Dr Ireena Dutta
DESCRIPTION:Abstract not available
LOCATION:Sackler Lecture Theatre\, CIMR\,  Level 7
END:VEVENT
END:VCALENDAR
