BEGIN:VCALENDAR
VERSION:2.0
PRODID:-//Talks.cam//talks.cam.ac.uk//
X-WR-CALNAME:Talks.cam
BEGIN:VEVENT
SUMMARY:A gentle introduction to the physics of graphene (mini-course 2) -
  Marquardt\, FK (Universitt Erlangen-Nrnberg)
DTSTART:20120730T150000Z
DTEND:20120730T160000Z
UID:TALK39088@talks.cam.ac.uk
CONTACT:Mustapha Amrani
DESCRIPTION:In this talk I will give an elementary introduction to the phy
 sics of graphene. Though the talk represents the perspective of a physicis
 t\, it will be geared towards a mathematics oriented audience. \n\n
LOCATION:Seminar Room 1\, Newton Institute
END:VEVENT
END:VCALENDAR
