BEGIN:VCALENDAR
VERSION:2.0
PRODID:-//Talks.cam//talks.cam.ac.uk//
X-WR-CALNAME:Talks.cam
BEGIN:VEVENT
SUMMARY:Optical metamaterials - bending the laws of physics - Dr Tim Wilki
 nson\, Cambridge University
DTSTART:20121018T173000Z
DTEND:20121018T190000Z
UID:TALK39123@talks.cam.ac.uk
CONTACT:Tim Wilkinson
DESCRIPTION:Metamaterials are artificial materials with properties that do
  not exist normally in nature. Advances in nanoscale fabrication allow for
  the realization of optical metamaterials which allow us to manipulate lig
 ht in ways that were orignially not thought to be possible.  These materia
 ls are composed of subwavelength electromagnetic structures place very clo
 se to one another. Due to mutual coupling between the individual structure
 s\, they present properties to incident electromagnetic radiation (such as
  light) that are different from those associated with the material from wh
 ich the structures are comprised of. In this talk we use periodic arrays o
 f multiwalled carbon nanotubes as subwavelength structures to produce opti
 cal metamaterials that exhibit artificial dielectric properties and band g
 aps within the optical regime.
LOCATION:Lecture Theatre 0\, University of Cambridge Engineering Departmen
 t\, Trumpington Street\, Cambridge
END:VEVENT
END:VCALENDAR
