BEGIN:VCALENDAR
VERSION:2.0
PRODID:-//Talks.cam//talks.cam.ac.uk//
X-WR-CALNAME:Talks.cam
BEGIN:VEVENT
SUMMARY:Glutamine Metabolism and mTOR Signaling in Cell Growth Regulation 
 - Dr Raul Duran\, University of Basel\, Switzerland
DTSTART:20120927T133000Z
DTEND:20120927T143000Z
UID:TALK39158@talks.cam.ac.uk
CONTACT:Dr Ireena Dutta
DESCRIPTION:Glutaminolysis is the double de-amination of glutamine to prod
 uce alpha-ketoglutarate\, a process upregulated in cancer cells. Our inves
 tigations showed that glutaminolysis activates mTORC1 and cell growth thro
 ugh the activation of prolyl hydroxylases. This results suggest a mechanis
 m to explain glutamine addiction in cancer cells beyond the energetic dema
 nd\, namely that glutamine sustains cell growth via the activation of mTOR
 C1.
LOCATION:Sackler Lecture Theatre\, CIMR\,  Level 7
END:VEVENT
END:VCALENDAR
