BEGIN:VCALENDAR
VERSION:2.0
PRODID:-//Talks.cam//talks.cam.ac.uk//
X-WR-CALNAME:Talks.cam
BEGIN:VEVENT
SUMMARY:2nd Annual Regulatory Cells in Autoimmunity event: Analysing and m
 oderating function   -  Professor Robert Barker\, University of Aberdeen
DTSTART:20121204T090000Z
DTEND:20121204T170000Z
UID:TALK39201@talks.cam.ac.uk
CONTACT:Dr Shara Cohen
DESCRIPTION:A balanced immune response is maintained by a network of regul
 atory cells including T cells\, B cells and iNKT cells. How these cells re
 spond to their environment in order to dampen down inflammation and what g
 oes wrong in autoimmunity\, will be the focus of this meeting. Novel insig
 hts into positive and negative feedback mechanisms that help balance the i
 mmune environment will be discussed. It is only by understanding how immun
 e regulation is maintained in health and what goes wrong during autoimmuni
 ty that new targets for therapy can be identified.\n\nwww.regonline.co.uk/
 autoimmune2012
LOCATION:The Royal College of Pathologists\,2 Carlton House Terrace\,Londo
 n\, UK
END:VEVENT
END:VCALENDAR
