BEGIN:VCALENDAR
VERSION:2.0
PRODID:-//Talks.cam//talks.cam.ac.uk//
X-WR-CALNAME:Talks.cam
BEGIN:VEVENT
SUMMARY:&quot\;Listen to me\, because I'm your mother&quot\;-Chinese mothe
 rs' parental authority and children's compliance - Soar Huang\, University
  of Cambridge
DTSTART:20121009T120000Z
DTEND:20121009T130000Z
UID:TALK39381@talks.cam.ac.uk
CONTACT:Megan Sim
DESCRIPTION:Children's development is shaped by a variety of factors\, inc
 luding individual characteristics (e.g. age\, gender and child temperament
 )\, parenting practices\, and broader environmental factors\, such as cult
 ure and society. In comparison to Western cultures which emphasise more on
  child autonomy\, Chinese culture emphasises on parental authority and chi
 ldren’s compliance in a more consistent and absolute manner. Chinese par
 ents usually take on more dominant roles when interacting with their child
 ren.\nThis cross-cultural study explores the links between parental author
 ity\, disciplinary strategies and child compliance in a sample of 89 Taiwa
 nese\, Chinese immigrant (in the UK)\, and English families (with 5-to-7 y
 ear-old children). Parent-child interactions were measured using systemati
 c observational methodologies. \nThe findings showed significant cultural 
 differences in children's situational compliance and mothers' use of contr
 ol and forceful/negative control: the Taiwanese children showed more situa
 tional compliance than the Chinese immigrant children\, and the English mo
 thers used less control and less forceful/negative control than the Taiwan
 ese mothers.
LOCATION:PPSIS Seminar Room (Free School Lane)
END:VEVENT
END:VCALENDAR
