BEGIN:VCALENDAR
VERSION:2.0
PRODID:-//Talks.cam//talks.cam.ac.uk//
X-WR-CALNAME:Talks.cam
BEGIN:VEVENT
SUMMARY:CMS electricity usage: 9640.0 kWh on 17/08/12 - Previous day: 9524
 .5 kWh
DTSTART:20120819T000000Z
DTEND:20120819T010000Z
UID:TALK39392@talks.cam.ac.uk
CONTACT:Dankrad Feist
DESCRIPTION:
LOCATION:Average on weekdays: 8927.60556622 kWh
END:VEVENT
END:VCALENDAR
