BEGIN:VCALENDAR
VERSION:2.0
PRODID:-//Talks.cam//talks.cam.ac.uk//
X-WR-CALNAME:Talks.cam
BEGIN:VEVENT
SUMMARY:Cambridge Network event: Paddy Lowe\, Technical Director at McLare
 n - Paddy Lowe\, Technical Director at McLaren
DTSTART:20121017T170000Z
DTEND:20121017T200000Z
UID:TALK39505@talks.cam.ac.uk
CONTACT:Louise Rushworth
DESCRIPTION:We’re delighted to welcome Paddy Lowe\, Technical Director a
 t Vodafone McLaren Mercedes\, the team in which Lewis Hamilton and Jenson 
 Button compete for the Formula One World Championship to speak to Cambridg
 e Network members this October. \n\nFormula One may seem a world apart fro
 m the cloisters of Cambridge\, but these days it is a sophisticated indust
 ry\, employing aerospace technology and attracting some of the very best e
 ngineering graduates fromCambridgeand elsewhere.\n\nInspired by his older 
 brother Michael (who is now Professor in Mechanical Engineering at Imperia
 lCollege) Paddy developed a passion for all things mechanical from an earl
 y age. “I rebuilt my first bicycle before I learnt to ride it! As I got 
 older\, I progressed to lawnmowers\, motorbikes and cars\, gaining a reput
 ation along the way for fixing friends’ machines.” To read more and to
  book onto this event please got to http://www.cambridgenetwork.co.uk/even
 ts/mclaren/\n\nTimings: Registration is from 6pm with the talk starting at
  6.30pm lasting for approx 1 hour\, including Q&A.\n\nThere will be a ligh
 t refreshments and an opportunity to network after the event\, which we es
 timate will end around 9pm.\n\nStaff and students at Cambridge University 
 can attend this event for free.\n\n
LOCATION:Churchill College\, Storeys Way\, Cambridge\, CB3 0DS
END:VEVENT
END:VCALENDAR
