BEGIN:VCALENDAR
VERSION:2.0
PRODID:-//Talks.cam//talks.cam.ac.uk//
X-WR-CALNAME:Talks.cam
BEGIN:VEVENT
SUMMARY:Neuronal pentraxins\, PV-INs and perineuronal nets  - Dr A. Radu A
 ricescu\, Wellcome Trust Centre for Human Genetics\, University of Oxford
DTSTART:20121003T110000Z
DTEND:20121003T120000Z
UID:TALK39685@talks.cam.ac.uk
CONTACT:Shannon Tinley-Browne
DESCRIPTION:Abstract not available
LOCATION:Brain Repair Centre\, Forvie Site\, Robinson Way
END:VEVENT
END:VCALENDAR
