BEGIN:VCALENDAR
VERSION:2.0
PRODID:-//Talks.cam//talks.cam.ac.uk//
X-WR-CALNAME:Talks.cam
BEGIN:VEVENT
SUMMARY:To what extent can order of accuracy improve forecast skill?    A 
 discussion session - Steppeler\, J (Deutscher Wetterdienst (DWD))
DTSTART:20120913T130000Z
DTEND:20120913T140000Z
UID:TALK39727@talks.cam.ac.uk
CONTACT:Mustapha Amrani
DESCRIPTION:2012/09/13
LOCATION:Seminar Room 2\, Newton Institute Gatehouse
END:VEVENT
END:VCALENDAR
