BEGIN:VCALENDAR
VERSION:2.0
PRODID:-//Talks.cam//talks.cam.ac.uk//
X-WR-CALNAME:Talks.cam
BEGIN:VEVENT
SUMMARY:Martingdale solution to equations for different type fluids of gra
 de two driven by random force of levy type - Razafimandimby\, P (Uniwersyt
 et Ldzki)
DTSTART:20120913T141000Z
DTEND:20120913T144000Z
UID:TALK39746@talks.cam.ac.uk
CONTACT:Mustapha Amrani
DESCRIPTION:We analyze a system of nonlinear non-parabolic stochastic evol
 ution equations driven by Levy noise type. This system describes the motio
 n of second grade fl\nuids driven by random force. Global existence of a m
 artingale solution is proved. This is a joint work with Profs E. Hausenbla
 s (Montanuniversitat Leoben-AT) and M. Sango (University of Pretoria-RSA)
 \n
LOCATION:Seminar Room 1\, Newton Institute
END:VEVENT
END:VCALENDAR
