BEGIN:VCALENDAR
VERSION:2.0
PRODID:-//Talks.cam//talks.cam.ac.uk//
X-WR-CALNAME:Talks.cam
BEGIN:VEVENT
SUMMARY:Sustaining Disease Prevention - David Stuckler\, University of Cam
 bridge\; Richard Smith\, London School of Hygiene &amp\; Tropical Medicine
 \; Majid Ezzati\, Imperial College\; Martin Roland\, University of Cambrid
 ge\; Theresa Marteau\, University of Cambridge\; Carsten Timmerman\, Unive
 rsity of Ma
DTSTART:20121026T090000Z
DTEND:20121026T180000Z
UID:TALK39805@talks.cam.ac.uk
CONTACT:Jennifer Reeves
DESCRIPTION:Join AAAS and Science on October 26\, 2012 in Cambridge\, UK f
 or a free symposium entitled “Sustaining Disease Prevention.”\n\nBuild
 ing on the Science special feature “Disease Prevention\,” published on
  September 21\, a panel of leading scientists will examine the various fac
 ets of disease prevention.\n\nFollowing our series of AAAS member’s and 
 friend’s evening events\, this will be our first day symposium\, which y
 ou are invited to attend free of charge.\n\nRegistration is on a first-com
 e\, first served basis.\nAs a courtesy to others\, please only RSVP if you
  can definitely attend.\n\nFor program information and to register for thi
 s event\, visit http://content.aaas.org/sustainingdiseaseprevention/ \n\nR
 egister Today!\n\n
LOCATION:Clare College\, Riley Auditorium
END:VEVENT
END:VCALENDAR
