BEGIN:VCALENDAR
VERSION:2.0
PRODID:-//Talks.cam//talks.cam.ac.uk//
X-WR-CALNAME:Talks.cam
BEGIN:VEVENT
SUMMARY:Newton's Method and Localization - Imbrie\, J (University of Virgi
 nia)
DTSTART:20120917T101000Z
DTEND:20120917T105000Z
UID:TALK39816@talks.cam.ac.uk
CONTACT:Mustapha Amrani
DESCRIPTION:We show how a scheme based on Newton's method can be used to d
 iagonalize a random Hamiltonian. This leads to results on localization at 
 strong disorder for Anderson tight-binding models and for many-body Hamilt
 onians. \n
LOCATION:Seminar Room 1\, Newton Institute
END:VEVENT
END:VCALENDAR
