BEGIN:VCALENDAR
VERSION:2.0
PRODID:-//Talks.cam//talks.cam.ac.uk//
X-WR-CALNAME:Talks.cam
BEGIN:VEVENT
SUMMARY:C++ (part 1) - Tim Love (University of Cambridge)
DTSTART:20121019T140000Z
DTEND:20121019T150000Z
UID:TALK39870@talks.cam.ac.uk
CONTACT:Tim Love
DESCRIPTION:The 1st of 4 talks in a C++ course. For details\, see the "not
 es":http://www-h.eng.cam.ac.uk/help/tpl/talks/C++course/
LOCATION:LR3\, Engineering\, Department of
END:VEVENT
END:VCALENDAR
