BEGIN:VCALENDAR
VERSION:2.0
PRODID:-//Talks.cam//talks.cam.ac.uk//
X-WR-CALNAME:Talks.cam
BEGIN:VEVENT
SUMMARY:Does the energy that drives hurricanes also heat your beer? - Durr
 an\, D (University of Washington\, USA)
DTSTART:20120921T123000Z
DTEND:20120921T130000Z
UID:TALK40012@talks.cam.ac.uk
CONTACT:Mustapha Amrani
DESCRIPTION:2012/09/21
LOCATION:Seminar Room 2\, Newton Institute Gatehouse
END:VEVENT
END:VCALENDAR
