BEGIN:VCALENDAR
VERSION:2.0
PRODID:-//Talks.cam//talks.cam.ac.uk//
X-WR-CALNAME:Talks.cam
BEGIN:VEVENT
SUMMARY:DCMIP 2012: Tracer Transport Tests in Dynamical Cores - James Kent
 \,   (China Meteorological Administration)
DTSTART:20120927T123500Z
DTEND:20120927T130000Z
UID:TALK40213@talks.cam.ac.uk
CONTACT:Mustapha Amrani
DESCRIPTION:We investigate the accuracy of tracer transport algorithms in 
 dynamical cores of weather and climate models using prescribed velocity te
 st cases. The tests make use of three-dimensional flow\, with the focus on
  extreme deformation\, horizontal-vertical coupling\, and flow in the pres
 ence of orography. These tests highlight common problems associated with a
 dvection in dynamical cores. Standard error measures allow us to assess co
 nvergence rates\, monotonicity\, and the effects of the diffusion mechanis
 ms in tracer transport algorithms. We will present results form the 2012 D
 ynamical Core Model Intercomparison Project (DCMIP) workshop.\n
LOCATION:Seminar Room 1\, Newton Institute
END:VEVENT
END:VCALENDAR
