BEGIN:VCALENDAR
VERSION:2.0
PRODID:-//Talks.cam//talks.cam.ac.uk//
X-WR-CALNAME:Talks.cam
BEGIN:VEVENT
SUMMARY:Studying L-functions via the trace formula - Paul-James White (Oxf
 ord)
DTSTART:20121030T143000Z
DTEND:20121030T153000Z
UID:TALK40266@talks.cam.ac.uk
CONTACT:Teruyoshi Yoshida
DESCRIPTION:Sarnak\, following ideas of Langlands on "Beyond Endoscopy"\, 
 gave a trace formula proof of the analytic continuation of the L-function 
 associated to a holomorphic cusp form.  Herman recently deduced the functi
 onal equation via the trace formula.  We shall talk about a possible appro
 ach to studying base change L-functions via the trace formula.
LOCATION:MR13
END:VEVENT
END:VCALENDAR
