BEGIN:VCALENDAR
VERSION:2.0
PRODID:-//Talks.cam//talks.cam.ac.uk//
X-WR-CALNAME:Talks.cam
BEGIN:VEVENT
SUMMARY:Adaptive Discontinuous Galerkin Inundation Modelling - Beisiegel\,
  B (Universitt Hamburg)
DTSTART:20121001T090000Z
DTEND:20121001T093000Z
UID:TALK40277@talks.cam.ac.uk
CONTACT:Mustapha Amrani
DESCRIPTION:2012/10/01
LOCATION:Seminar Room 1\, Newton Institute
END:VEVENT
END:VCALENDAR
