BEGIN:VCALENDAR
VERSION:2.0
PRODID:-//Talks.cam//talks.cam.ac.uk//
X-WR-CALNAME:Talks.cam
BEGIN:VEVENT
SUMMARY:Sound-proof modeling on unstructured meshes - Szmelter\, J (Loughb
 orough University)
DTSTART:20121002T093000Z
DTEND:20121002T100000Z
UID:TALK40359@talks.cam.ac.uk
CONTACT:Mustapha Amrani
DESCRIPTION:2012/10/02
LOCATION:Seminar Room 1\, Newton Institute
END:VEVENT
END:VCALENDAR
