BEGIN:VCALENDAR
VERSION:2.0
PRODID:-//Talks.cam//talks.cam.ac.uk//
X-WR-CALNAME:Talks.cam
BEGIN:VEVENT
SUMMARY:SLE(8/3)-bubbles -  Dmitry Belyaev (Oxford)
DTSTART:20121023T153000Z
DTEND:20121023T163000Z
UID:TALK40508@talks.cam.ac.uk
CONTACT:12974
DESCRIPTION: SLE(8/3) curve is the conjectured limit of self-avoiding rand
 om walk. Simmons and Cardy recently\npredicted a formula for the probabili
 ty that the chordal SLE$_{8/3}$ path passes to the left of two points\nin 
 the upper half-plane. We will discuss how to prove this rigorously and wil
 l explain how this result\ncould be used to study SLE bubbles and restrict
 ion measures.
LOCATION:MR12\, CMS\, Wilberforce Road\, Cambridge\, CB3 0WB
END:VEVENT
END:VCALENDAR
