BEGIN:VCALENDAR
VERSION:2.0
PRODID:-//Talks.cam//talks.cam.ac.uk//
X-WR-CALNAME:Talks.cam
BEGIN:VEVENT
SUMMARY:CMS electricity usage: 8706.0 kWh on 28/09/12 - Previous day: 9139
 .0 kWh
DTSTART:20120930T000000Z
DTEND:20120930T010000Z
UID:TALK40538@talks.cam.ac.uk
CONTACT:Dankrad Feist
DESCRIPTION:
LOCATION:Average on weekdays: 8929.59800363 kWh
END:VEVENT
END:VCALENDAR
