BEGIN:VCALENDAR
VERSION:2.0
PRODID:-//Talks.cam//talks.cam.ac.uk//
X-WR-CALNAME:Talks.cam
BEGIN:VEVENT
SUMMARY:Reconstructing the mode and tempo of the out-of-Africa expansion o
 f anatomically modern humans - Dr. Andrea Manica ( Dept. of Zoology\, Camb
 ridge University)
DTSTART:20121114T163000Z
DTEND:20121114T173000Z
UID:TALK40630@talks.cam.ac.uk
CONTACT:Jacob Dunn
DESCRIPTION:Abstract not available
LOCATION:Department of Biological Anthropology Lecture Theatre (Room 41) P
 embroke Street
END:VEVENT
END:VCALENDAR
