BEGIN:VCALENDAR
VERSION:2.0
PRODID:-//Talks.cam//talks.cam.ac.uk//
X-WR-CALNAME:Talks.cam
BEGIN:VEVENT
SUMMARY:Sculptor\, Fornax\, and Their Dark Matter Cores - Adriano Agnello 
 (IoA)
DTSTART:20121121T134500Z
DTEND:20121121T141500Z
UID:TALK40710@talks.cam.ac.uk
CONTACT:28811
DESCRIPTION:Abstract not available
LOCATION:Sackler Lecture Theatre\, IoA
END:VEVENT
END:VCALENDAR
