BEGIN:VCALENDAR
VERSION:2.0
PRODID:-//Talks.cam//talks.cam.ac.uk//
X-WR-CALNAME:Talks.cam
BEGIN:VEVENT
SUMMARY:A parallel multirate time-stepping strategy for ocean modelling - 
 Seny\, B (Universit Catholique de Louvain\, Belgium)
DTSTART:20121011T090000Z
DTEND:20121011T100000Z
UID:TALK40765@talks.cam.ac.uk
CONTACT:Mustapha Amrani
DESCRIPTION:2012/10/11
LOCATION:Seminar Room 1\, Newton Institute
END:VEVENT
END:VCALENDAR
