BEGIN:VCALENDAR
VERSION:2.0
PRODID:-//Talks.cam//talks.cam.ac.uk//
X-WR-CALNAME:Talks.cam
BEGIN:VEVENT
SUMMARY:Whole life management of service knowledge in aerospace domain - T
 ariq (DIAL)
DTSTART:20121108T110000Z
DTEND:20121108T120000Z
UID:TALK40958@talks.cam.ac.uk
CONTACT:Rengarajan
DESCRIPTION:Abstract not available
LOCATION:Seminar room 1\, Institute for Manufacturing\, Cambridge
END:VEVENT
END:VCALENDAR
