BEGIN:VCALENDAR
VERSION:2.0
PRODID:-//Talks.cam//talks.cam.ac.uk//
X-WR-CALNAME:Talks.cam
BEGIN:VEVENT
SUMMARY:How (not) to give a talk - Dr. Lisa Jardine-Wright
DTSTART:20121022T180000Z
DTEND:20121022T190000Z
UID:TALK40990@talks.cam.ac.uk
CONTACT:James Mayoh
DESCRIPTION:Abstract not available
LOCATION:Bevin Room\, Churchill College
END:VEVENT
END:VCALENDAR
