BEGIN:VCALENDAR
VERSION:2.0
PRODID:-//Talks.cam//talks.cam.ac.uk//
X-WR-CALNAME:Talks.cam
BEGIN:VEVENT
SUMMARY:Bubbles / Laser Physics - Finlay Chamings / Rudi Mears
DTSTART:20130211T190000Z
DTEND:20130211T203000Z
UID:TALK40994@talks.cam.ac.uk
CONTACT:James Mayoh
DESCRIPTION:Abstract not available
LOCATION:Bevin Room\, Churchill College
END:VEVENT
END:VCALENDAR
