BEGIN:VCALENDAR
VERSION:2.0
PRODID:-//Talks.cam//talks.cam.ac.uk//
X-WR-CALNAME:Talks.cam
BEGIN:VEVENT
SUMMARY:CSAR Book Evening - Dr Paula Gomes\, Dr Richard Preece\, Dr Tim Sp
 arks\, Charles Cotton
DTSTART:20130304T190000Z
DTEND:20130304T210000Z
UID:TALK41039@talks.cam.ac.uk
CONTACT:Dr Nigel Bennee
DESCRIPTION:The books - Medical Robotics\, Fauna Cantabrigiensis and The C
 ambridge Phenomenon will be discussed by the editors/authors.
LOCATION:Wolfson Lecture Theatre\, Churchill College\, Storey's Way\, Camb
 ridge
END:VEVENT
END:VCALENDAR
