BEGIN:VCALENDAR
VERSION:2.0
PRODID:-//Talks.cam//talks.cam.ac.uk//
X-WR-CALNAME:Talks.cam
BEGIN:VEVENT
SUMMARY:Food for Thought: Ecosystem Services &amp\; Sustainable Land Use P
 ractices in Social-Ecological Systems - Aiora Zabala\, PhD Student\, Dept.
  of Land Economy.
DTSTART:20121114T130000Z
DTEND:20121114T140000Z
UID:TALK41046@talks.cam.ac.uk
CONTACT:30411
DESCRIPTION:*'Rewards for Ecosystem Services and the Adoption of Sustainab
 le Land Use Practices in Social-Ecological Systems'*\n\n- Aiora Zabala\, P
 hD Student\, Dept. of Land Economy.\n\n_The talk will start at about 1:10 
 so don’t worry if you’re a little late\, equally if you need to slip o
 ff early thats no problem. Bring your lunch and munch as you listen\, then
  we’ll have a relaxed discussion/Q&A session._\n\n\n
LOCATION:Wordsworth Room\, St John's College\, First Court (on left hand s
 ide)
END:VEVENT
END:VCALENDAR
