BEGIN:VCALENDAR
VERSION:2.0
PRODID:-//Talks.cam//talks.cam.ac.uk//
X-WR-CALNAME:Talks.cam
BEGIN:VEVENT
SUMMARY:Designs upon the Land? Elite Landscapes of the Middle Ages - Olive
 r Creighton\, University of Exeter
DTSTART:20130225T131500Z
DTEND:20130225T141500Z
UID:TALK41140@talks.cam.ac.uk
CONTACT:Susanne Hakenbeck
DESCRIPTION:Abstract not available
LOCATION:Seminar Room\, McDonald Institute for Archaeological Research\, D
 owning Site
END:VEVENT
END:VCALENDAR
