BEGIN:VCALENDAR
VERSION:2.0
PRODID:-//Talks.cam//talks.cam.ac.uk//
X-WR-CALNAME:Talks.cam
BEGIN:VEVENT
SUMMARY:A low energy effective introduction to string theory (and\ngeneral
 ised geometry) - Chris Blair -  DAMTP
DTSTART:20121024T150000Z
DTEND:20121024T154500Z
UID:TALK41168@talks.cam.ac.uk
CONTACT:Mike Blake
DESCRIPTION:Abstract not available
LOCATION:CMS\, MR4 (note unusual location)
END:VEVENT
END:VCALENDAR
