BEGIN:VCALENDAR
VERSION:2.0
PRODID:-//Talks.cam//talks.cam.ac.uk//
X-WR-CALNAME:Talks.cam
BEGIN:VEVENT
SUMMARY:Geometry in Our Universe - Ruth Gregory\, Durham University
DTSTART:20121031T153000Z
DTEND:20121031T163000Z
UID:TALK41198@talks.cam.ac.uk
CONTACT:Emmy Noether
DESCRIPTION:Abstract not available
LOCATION:MR9\, CMS\, Wilberforce Road\, Cambridge\, CB3 0WB
END:VEVENT
END:VCALENDAR
